Package: MAGAR Version: 1.17.0 Command: rm -rf MAGAR.buildbin-libdir && mkdir MAGAR.buildbin-libdir && /Users/biocbuild/BBS/utils/build-universal.sh MAGAR_1.17.0.tar.gz /Library/Frameworks/R.framework/Resources/bin/R MAGAR.buildbin-libdir StartedAt: 2025-07-08 01:00:01 -0400 (Tue, 08 Jul 2025) EndedAt: 2025-07-08 01:01:36 -0400 (Tue, 08 Jul 2025) EllapsedTime: 94.1 seconds RetCode: 0 Status: OK PackageFile: MAGAR_1.17.0.tgz PackageFileSize: 1.554 MiB