############################################################################## ############################################################################## ### ### Running command: ### ### /home/biocbuild/R/R/bin/R CMD INSTALL MADSEQ ### ############################################################################## ############################################################################## * installing to library ‘/home/biocbuild/R/R-4.5.0/site-library’ ERROR: dependencies ‘rjags’, ‘zlibbioc’ are not available for package ‘MADSEQ’ Perhaps try a variation of: install.packages(c('rjags', 'zlibbioc')) * removing ‘/home/biocbuild/R/R-4.5.0/site-library/MADSEQ’