Package: MADSEQ Version: 1.35.1 Command: /home/biocbuild/R/R/bin/R CMD build --keep-empty-dirs --no-resave-data MADSEQ StartedAt: 2025-07-15 00:38:22 -0000 (Tue, 15 Jul 2025) EndedAt: 2025-07-15 00:38:23 -0000 (Tue, 15 Jul 2025) EllapsedTime: 1.0 seconds RetCode: 1 Status: ERROR PackageFile: None PackageFileSize: NA