############################################################################## ############################################################################## ### ### Running command: ### ### chmod a+r MADSEQ -R && F:\biocbuild\bbs-3.22-bioc\R\bin\R.exe CMD build --keep-empty-dirs --no-resave-data MADSEQ ### ############################################################################## ############################################################################## * checking for file 'MADSEQ/DESCRIPTION' ... OK * preparing 'MADSEQ': * checking DESCRIPTION meta-information ... OK * installing the package to build vignettes ----------------------------------- ERROR: dependency 'zlibbioc' is not available for package 'MADSEQ' Perhaps try a variation of: install.packages('zlibbioc') * removing 'F:/biocbuild/bbs-3.22-bioc/tmpdir/RtmpUJUQBd/Rinst1f3203f5f7ca9/MADSEQ' ----------------------------------- ERROR: package installation failed