Package: MADSEQ Version: 1.35.0 Command: rm -rf MADSEQ.buildbin-libdir && mkdir MADSEQ.buildbin-libdir && F:\biocbuild\bbs-3.22-bioc\R\bin\R.exe CMD INSTALL --build --library=MADSEQ.buildbin-libdir MADSEQ_1.35.0.tar.gz StartedAt: 2025-04-18 10:02:19 -0400 (Fri, 18 Apr 2025) EndedAt: 2025-04-18 10:03:24 -0400 (Fri, 18 Apr 2025) EllapsedTime: 65.1 seconds RetCode: 0 Status: OK PackageFile: MADSEQ_1.35.0.zip PackageFileSize: 2.258 MiB