Package: MADSEQ Version: 1.35.1 Command: /Library/Frameworks/R.framework/Resources/bin/R CMD INSTALL MADSEQ StartedAt: 2025-07-11 15:33:26 -0400 (Fri, 11 Jul 2025) EndedAt: 2025-07-11 15:33:26 -0400 (Fri, 11 Jul 2025) EllapsedTime: 0.1 seconds RetCode: 1 Status: ERROR