Package: MADSEQ Version: 1.35.0 Maintainer: Yu Kong MaintainerEmail: yu.kong at phd.einstein.yu.edu git_url: https://git.bioconductor.org/packages/MADSEQ git_branch: devel git_last_commit: ceda89e git_last_commit_date: 2025-04-15 11:02:30 -0400 (Tue, 15 Apr 2025)