Package: MACSr Version: 1.17.0 Command: /home/biocbuild/R/R/bin/R CMD INSTALL MACSr StartedAt: 2025-07-24 21:28:19 -0000 (Thu, 24 Jul 2025) EndedAt: 2025-07-24 21:28:40 -0000 (Thu, 24 Jul 2025) EllapsedTime: 20.9 seconds RetCode: 0 Status: OK