Package: MACSr Version: 1.17.0 Command: /home/biocbuild/R/R/bin/R CMD build --keep-empty-dirs --no-resave-data MACSr StartedAt: 2025-07-25 01:38:08 -0000 (Fri, 25 Jul 2025) EndedAt: 2025-07-25 01:38:56 -0000 (Fri, 25 Jul 2025) EllapsedTime: 48.0 seconds RetCode: 0 Status: OK PackageFile: MACSr_1.17.0.tar.gz PackageFileSize: 5.177 MiB