Package: MACSr Version: 1.17.0 Command: /Library/Frameworks/R.framework/Resources/bin/R CMD build --keep-empty-dirs --no-resave-data MACSr StartedAt: 2025-07-20 16:46:29 -0400 (Sun, 20 Jul 2025) EndedAt: 2025-07-20 16:46:47 -0400 (Sun, 20 Jul 2025) EllapsedTime: 17.2 seconds RetCode: 0 Status: OK PackageFile: MACSr_1.17.0.tar.gz PackageFileSize: 5.112 MiB