Package: M3Drop Version: 1.35.0 Command: F:\biocbuild\bbs-3.22-bioc\R\bin\R.exe CMD INSTALL M3Drop StartedAt: 2025-07-11 16:22:31 -0400 (Fri, 11 Jul 2025) EndedAt: 2025-07-11 16:23:02 -0400 (Fri, 11 Jul 2025) EllapsedTime: 30.5 seconds RetCode: 0 Status: OK