Package: LoomExperiment Version: 1.27.0 Command: /home/biocbuild/R/R/bin/R CMD INSTALL LoomExperiment StartedAt: 2025-06-30 20:57:52 -0000 (Mon, 30 Jun 2025) EndedAt: 2025-06-30 20:58:29 -0000 (Mon, 30 Jun 2025) EllapsedTime: 36.8 seconds RetCode: 0 Status: OK