Package: LoomExperiment Version: 1.27.0 Command: /home/biocbuild/R/R/bin/R CMD check --install=check:LoomExperiment.install-out.txt --library=/home/biocbuild/R/R/site-library --no-vignettes --timings LoomExperiment_1.27.0.tar.gz StartedAt: 2025-07-01 08:53:20 -0000 (Tue, 01 Jul 2025) EndedAt: 2025-07-01 08:57:22 -0000 (Tue, 01 Jul 2025) EllapsedTime: 242.3 seconds RetCode: 0 Status: OK CheckDir: LoomExperiment.Rcheck Warnings: 0