Package: LoomExperiment Version: 1.27.0 Command: /home/biocbuild/R/R/bin/R CMD build --keep-empty-dirs --no-resave-data LoomExperiment StartedAt: 2025-07-01 00:37:46 -0000 (Tue, 01 Jul 2025) EndedAt: 2025-07-01 00:38:41 -0000 (Tue, 01 Jul 2025) EllapsedTime: 55.0 seconds RetCode: 0 Status: OK PackageFile: LoomExperiment_1.27.0.tar.gz PackageFileSize: 279 KiB