Package: LipidTrend Version: 0.99.1 Command: /home/biocbuild/R/R/bin/R CMD check --install=check:LipidTrend.install-out.txt --library=/home/biocbuild/R/R/site-library --no-vignettes --timings LipidTrend_0.99.1.tar.gz StartedAt: 2025-07-01 08:51:42 -0000 (Tue, 01 Jul 2025) EndedAt: 2025-07-01 08:55:05 -0000 (Tue, 01 Jul 2025) EllapsedTime: 203.3 seconds RetCode: 0 Status: OK CheckDir: LipidTrend.Rcheck Warnings: 0