Package: LipidTrend Version: 0.99.1 Command: /Library/Frameworks/R.framework/Resources/bin/R CMD INSTALL LipidTrend StartedAt: 2025-07-11 15:18:37 -0400 (Fri, 11 Jul 2025) EndedAt: 2025-07-11 15:19:09 -0400 (Fri, 11 Jul 2025) EllapsedTime: 32.0 seconds RetCode: 0 Status: OK