Package: LipidTrend Version: 0.99.1 Command: /Library/Frameworks/R.framework/Resources/bin/R CMD build --keep-empty-dirs --no-resave-data LipidTrend StartedAt: 2025-07-11 17:24:18 -0400 (Fri, 11 Jul 2025) EndedAt: 2025-07-11 17:25:02 -0400 (Fri, 11 Jul 2025) EllapsedTime: 43.4 seconds RetCode: 0 Status: OK PackageFile: LipidTrend_0.99.1.tar.gz PackageFileSize: 765.2 KiB