Package: Linnorm Version: 2.33.0 Command: /home/biocbuild/R/R/bin/R CMD INSTALL Linnorm StartedAt: 2025-07-14 20:22:26 -0000 (Mon, 14 Jul 2025) EndedAt: 2025-07-14 20:23:00 -0000 (Mon, 14 Jul 2025) EllapsedTime: 33.5 seconds RetCode: 0 Status: OK