Package: Linnorm Version: 2.33.0 Command: /home/biocbuild/R/R/bin/R CMD check --install=check:Linnorm.install-out.txt --library=/home/biocbuild/R/R/site-library --no-vignettes --timings Linnorm_2.33.0.tar.gz StartedAt: 2025-07-15 08:54:57 -0000 (Tue, 15 Jul 2025) EndedAt: 2025-07-15 09:02:30 -0000 (Tue, 15 Jul 2025) EllapsedTime: 453.6 seconds RetCode: 0 Status: OK CheckDir: Linnorm.Rcheck Warnings: 0