Package: Linnorm Version: 2.33.0 Command: /home/biocbuild/R/R/bin/R CMD build --keep-empty-dirs --no-resave-data Linnorm StartedAt: 2025-07-15 00:35:01 -0000 (Tue, 15 Jul 2025) EndedAt: 2025-07-15 00:40:32 -0000 (Tue, 15 Jul 2025) EllapsedTime: 331.1 seconds RetCode: 0 Status: OK PackageFile: Linnorm_2.33.0.tar.gz PackageFileSize: 4.097 MiB