Package: Linnorm Version: 2.33.0 Command: /Library/Frameworks/R.framework/Resources/bin/R CMD check --install=check:Linnorm.install-out.txt --library=/Library/Frameworks/R.framework/Resources/library --no-vignettes --timings Linnorm_2.33.0.tar.gz StartedAt: 2025-07-11 19:54:14 -0400 (Fri, 11 Jul 2025) EndedAt: 2025-07-11 19:56:07 -0400 (Fri, 11 Jul 2025) EllapsedTime: 112.7 seconds RetCode: 0 Status: OK CheckDir: Linnorm.Rcheck Warnings: 0