Package: Linnorm Version: 2.33.0 Command: /Library/Frameworks/R.framework/Resources/bin/R CMD build --keep-empty-dirs --no-resave-data Linnorm StartedAt: 2025-07-11 16:44:27 -0400 (Fri, 11 Jul 2025) EndedAt: 2025-07-11 16:45:53 -0400 (Fri, 11 Jul 2025) EllapsedTime: 86.0 seconds RetCode: 0 Status: OK PackageFile: Linnorm_2.33.0.tar.gz PackageFileSize: 4.107 MiB