Package: LinkHD Version: 1.23.0 Command: /Library/Frameworks/R.framework/Resources/bin/R CMD INSTALL LinkHD StartedAt: 2025-07-13 15:26:19 -0400 (Sun, 13 Jul 2025) EndedAt: 2025-07-13 15:26:54 -0400 (Sun, 13 Jul 2025) EllapsedTime: 35.8 seconds RetCode: 0 Status: OK