Package: LinkHD Version: 1.23.0 Command: /Library/Frameworks/R.framework/Resources/bin/R CMD build --keep-empty-dirs --no-resave-data LinkHD StartedAt: 2025-07-16 17:24:42 -0400 (Wed, 16 Jul 2025) EndedAt: 2025-07-16 17:25:52 -0400 (Wed, 16 Jul 2025) EllapsedTime: 69.7 seconds RetCode: 0 Status: OK PackageFile: LinkHD_1.23.0.tar.gz PackageFileSize: 2.371 MiB