Package: LinkHD Version: 1.23.0 Command: /Library/Frameworks/R.framework/Resources/bin/R CMD INSTALL LinkHD StartedAt: 2025-07-14 15:14:46 -0400 (Mon, 14 Jul 2025) EndedAt: 2025-07-14 15:14:57 -0400 (Mon, 14 Jul 2025) EllapsedTime: 10.5 seconds RetCode: 0 Status: OK