Package: LinkHD Version: 1.23.0 Command: /Library/Frameworks/R.framework/Resources/bin/R CMD build --keep-empty-dirs --no-resave-data LinkHD StartedAt: 2025-07-14 16:44:54 -0400 (Mon, 14 Jul 2025) EndedAt: 2025-07-14 16:45:18 -0400 (Mon, 14 Jul 2025) EllapsedTime: 24.3 seconds RetCode: 0 Status: OK PackageFile: LinkHD_1.23.0.tar.gz PackageFileSize: 2.374 MiB