Package: LinkHD Version: 1.23.0 Command: rm -rf LinkHD.buildbin-libdir && mkdir LinkHD.buildbin-libdir && /Users/biocbuild/BBS/utils/build-universal.sh LinkHD_1.23.0.tar.gz /Library/Frameworks/R.framework/Resources/bin/R LinkHD.buildbin-libdir StartedAt: 2025-07-14 22:23:42 -0400 (Mon, 14 Jul 2025) EndedAt: 2025-07-14 22:23:54 -0400 (Mon, 14 Jul 2025) EllapsedTime: 12.2 seconds RetCode: 0 Status: OK PackageFile: LinkHD_1.23.0.tgz PackageFileSize: 2.086 MiB