Package: LinTInd Version: 1.13.0 Command: F:\biocbuild\bbs-3.22-bioc\R\bin\R.exe CMD INSTALL LinTInd StartedAt: 2025-07-09 16:38:49 -0400 (Wed, 09 Jul 2025) EndedAt: 2025-07-09 16:39:22 -0400 (Wed, 09 Jul 2025) EllapsedTime: 32.4 seconds RetCode: 0 Status: OK