Package: LimROTS Version: 1.1.4 Command: /home/biocbuild/R/R/bin/R CMD check --install=check:LimROTS.install-out.txt --library=/home/biocbuild/R/R/site-library --no-vignettes --timings LimROTS_1.1.4.tar.gz StartedAt: 2025-07-18 08:06:00 -0000 (Fri, 18 Jul 2025) EndedAt: 2025-07-18 08:09:59 -0000 (Fri, 18 Jul 2025) EllapsedTime: 238.6 seconds RetCode: 0 Status: OK CheckDir: LimROTS.Rcheck Warnings: 0