Package: LimROTS Version: 1.1.4 Command: /home/biocbuild/R/R/bin/R CMD build --keep-empty-dirs --no-resave-data LimROTS StartedAt: 2025-07-15 00:34:51 -0000 (Tue, 15 Jul 2025) EndedAt: 2025-07-15 00:36:30 -0000 (Tue, 15 Jul 2025) EllapsedTime: 99.0 seconds RetCode: 0 Status: OK PackageFile: LimROTS_1.1.4.tar.gz PackageFileSize: 648.6 KiB