Package: LimROTS Version: 1.1.4 Command: /Library/Frameworks/R.framework/Resources/bin/R CMD INSTALL LimROTS StartedAt: 2025-10-03 15:46:02 -0400 (Fri, 03 Oct 2025) EndedAt: 2025-10-03 15:46:40 -0400 (Fri, 03 Oct 2025) EllapsedTime: 37.4 seconds RetCode: 0 Status: OK