Package: LimROTS Version: 1.1.4 Command: /Library/Frameworks/R.framework/Resources/bin/R CMD check --install=check:LimROTS.install-out.txt --library=/Library/Frameworks/R.framework/Resources/library --no-vignettes --timings LimROTS_1.1.4.tar.gz StartedAt: 2025-10-03 22:29:35 -0400 (Fri, 03 Oct 2025) EndedAt: 2025-10-03 22:33:27 -0400 (Fri, 03 Oct 2025) EllapsedTime: 232.2 seconds RetCode: 0 Status: OK CheckDir: LimROTS.Rcheck Warnings: 0