Package: LimROTS Version: 1.1.4 Command: /Library/Frameworks/R.framework/Resources/bin/R CMD check --install=check:LimROTS.install-out.txt --library=/Library/Frameworks/R.framework/Resources/library --no-vignettes --timings LimROTS_1.1.4.tar.gz StartedAt: 2025-07-13 19:51:46 -0400 (Sun, 13 Jul 2025) EndedAt: 2025-07-13 19:52:58 -0400 (Sun, 13 Jul 2025) EllapsedTime: 72.0 seconds RetCode: 0 Status: OK CheckDir: LimROTS.Rcheck Warnings: 0