Package: Lheuristic Version: 1.1.0 Command: F:\biocbuild\bbs-3.22-bioc\R\bin\R.exe CMD INSTALL Lheuristic StartedAt: 2025-07-22 17:01:55 -0400 (Tue, 22 Jul 2025) EndedAt: 2025-07-22 17:02:41 -0400 (Tue, 22 Jul 2025) EllapsedTime: 46.4 seconds RetCode: 0 Status: OK