Package: Lheuristic Version: 1.1.0 Command: F:\biocbuild\bbs-3.22-bioc\R\bin\R.exe CMD check --no-multiarch --install=check:Lheuristic.install-out.txt --library=F:\biocbuild\bbs-3.22-bioc\R\library --no-vignettes --timings Lheuristic_1.1.0.tar.gz StartedAt: 2025-07-23 03:31:54 -0400 (Wed, 23 Jul 2025) EndedAt: 2025-07-23 03:35:48 -0400 (Wed, 23 Jul 2025) EllapsedTime: 233.9 seconds RetCode: 0 Status: OK CheckDir: Lheuristic.Rcheck Warnings: 0