Package: Lheuristic Version: 1.1.0 Command: rm -rf Lheuristic.buildbin-libdir && mkdir Lheuristic.buildbin-libdir && F:\biocbuild\bbs-3.22-bioc\R\bin\R.exe CMD INSTALL --build --library=Lheuristic.buildbin-libdir Lheuristic_1.1.0.tar.gz StartedAt: 2025-07-23 09:25:54 -0400 (Wed, 23 Jul 2025) EndedAt: 2025-07-23 09:26:32 -0400 (Wed, 23 Jul 2025) EllapsedTime: 38.0 seconds RetCode: 0 Status: OK PackageFile: Lheuristic_1.1.0.zip PackageFileSize: 463.9 KiB