Package: Lheuristic Version: 1.1.0 Command: /Library/Frameworks/R.framework/Resources/bin/R CMD INSTALL Lheuristic StartedAt: 2025-07-11 15:24:17 -0400 (Fri, 11 Jul 2025) EndedAt: 2025-07-11 15:24:52 -0400 (Fri, 11 Jul 2025) EllapsedTime: 35.9 seconds RetCode: 0 Status: OK