Package: Lheuristic Version: 1.1.0 Command: /Library/Frameworks/R.framework/Resources/bin/R CMD check --install=check:Lheuristic.install-out.txt --library=/Library/Frameworks/R.framework/Resources/library --no-vignettes --timings Lheuristic_1.1.0.tar.gz StartedAt: 2025-07-11 21:34:49 -0400 (Fri, 11 Jul 2025) EndedAt: 2025-07-11 21:38:28 -0400 (Fri, 11 Jul 2025) EllapsedTime: 218.2 seconds RetCode: 0 Status: OK CheckDir: Lheuristic.Rcheck Warnings: 0