Package: Lheuristic Version: 1.1.0 Command: /Library/Frameworks/R.framework/Resources/bin/R CMD build --keep-empty-dirs --no-resave-data Lheuristic StartedAt: 2025-07-11 17:23:42 -0400 (Fri, 11 Jul 2025) EndedAt: 2025-07-11 17:24:30 -0400 (Fri, 11 Jul 2025) EllapsedTime: 48.0 seconds RetCode: 0 Status: OK PackageFile: Lheuristic_1.1.0.tar.gz PackageFileSize: 608.8 KiB