Package: Lheuristic Version: 1.1.0 Command: rm -rf Lheuristic.buildbin-libdir && mkdir Lheuristic.buildbin-libdir && /Users/biocbuild/BBS/utils/build-universal.sh Lheuristic_1.1.0.tar.gz /Library/Frameworks/R.framework/Resources/bin/R Lheuristic.buildbin-libdir StartedAt: 2025-07-12 01:02:57 -0400 (Sat, 12 Jul 2025) EndedAt: 2025-07-12 01:03:35 -0400 (Sat, 12 Jul 2025) EllapsedTime: 38.4 seconds RetCode: 0 Status: OK PackageFile: Lheuristic_1.1.0.tgz PackageFileSize: 663.4 KiB