Package: LRcell Version: 1.17.0 Command: /home/biocbuild/R/R/bin/R CMD check --install=check:LRcell.install-out.txt --library=/home/biocbuild/R/R/site-library --no-vignettes --timings LRcell_1.17.0.tar.gz StartedAt: 2025-06-27 08:40:06 -0000 (Fri, 27 Jun 2025) EndedAt: 2025-06-27 08:43:20 -0000 (Fri, 27 Jun 2025) EllapsedTime: 194.2 seconds RetCode: 0 Status: OK CheckDir: LRcell.Rcheck Warnings: 0