Package: LRcell Version: 1.17.0 Command: /home/biocbuild/R/R/bin/R CMD build --keep-empty-dirs --no-resave-data LRcell StartedAt: 2025-06-27 00:30:07 -0000 (Fri, 27 Jun 2025) EndedAt: 2025-06-27 00:31:31 -0000 (Fri, 27 Jun 2025) EllapsedTime: 84.0 seconds RetCode: 0 Status: OK PackageFile: LRcell_1.17.0.tar.gz PackageFileSize: 725.9 KiB