Package: LRcell Version: 1.17.0 Command: chmod a+r LRcell -R && F:\biocbuild\bbs-3.22-bioc\R\bin\R.exe CMD build --keep-empty-dirs --no-resave-data LRcell StartedAt: 2025-07-20 20:00:13 -0400 (Sun, 20 Jul 2025) EndedAt: 2025-07-20 20:03:55 -0400 (Sun, 20 Jul 2025) EllapsedTime: 222.3 seconds RetCode: 0 Status: OK PackageFile: LRcell_1.17.0.tar.gz PackageFileSize: 735.8 KiB