Package: LRcell Version: 1.17.0 Command: /Library/Frameworks/R.framework/Resources/bin/R CMD check --install=check:LRcell.install-out.txt --library=/Library/Frameworks/R.framework/Resources/library --no-vignettes --timings LRcell_1.17.0.tar.gz StartedAt: 2025-07-02 19:54:53 -0400 (Wed, 02 Jul 2025) EndedAt: 2025-07-02 19:55:56 -0400 (Wed, 02 Jul 2025) EllapsedTime: 63.0 seconds RetCode: 0 Status: OK CheckDir: LRcell.Rcheck Warnings: 0