Package: LRcell Version: 1.17.0 Command: /Library/Frameworks/R.framework/Resources/bin/R CMD build --keep-empty-dirs --no-resave-data LRcell StartedAt: 2025-07-02 16:45:19 -0400 (Wed, 02 Jul 2025) EndedAt: 2025-07-02 16:45:45 -0400 (Wed, 02 Jul 2025) EllapsedTime: 26.3 seconds RetCode: 0 Status: OK PackageFile: LRcell_1.17.0.tar.gz PackageFileSize: 1.036 MiB