Package: LRBaseDbi Version: 2.19.1 Command: F:\biocbuild\bbs-3.22-bioc\R\bin\R.exe CMD INSTALL LRBaseDbi StartedAt: 2025-07-13 15:43:51 -0400 (Sun, 13 Jul 2025) EndedAt: 2025-07-13 15:44:29 -0400 (Sun, 13 Jul 2025) EllapsedTime: 38.2 seconds RetCode: 0 Status: OK