Package: LPE Version: 1.83.0 Command: /Library/Frameworks/R.framework/Resources/bin/R CMD check --install=check:LPE.install-out.txt --library=/Library/Frameworks/R.framework/Resources/library --no-vignettes --timings LPE_1.83.0.tar.gz StartedAt: 2025-10-05 20:14:02 -0400 (Sun, 05 Oct 2025) EndedAt: 2025-10-05 20:14:14 -0400 (Sun, 05 Oct 2025) EllapsedTime: 12.1 seconds RetCode: 0 Status: OK CheckDir: LPE.Rcheck Warnings: 0