Package: LOLA Version: 1.39.1 Command: /Library/Frameworks/R.framework/Resources/bin/R CMD INSTALL LOLA StartedAt: 2025-07-04 15:10:46 -0400 (Fri, 04 Jul 2025) EndedAt: 2025-07-04 15:10:50 -0400 (Fri, 04 Jul 2025) EllapsedTime: 4.4 seconds RetCode: 0 Status: OK