Package: LOLA Version: 1.39.1 Command: /Library/Frameworks/R.framework/Resources/bin/R CMD check --install=check:LOLA.install-out.txt --library=/Library/Frameworks/R.framework/Resources/library --no-vignettes --timings LOLA_1.39.1.tar.gz StartedAt: 2025-07-04 19:53:02 -0400 (Fri, 04 Jul 2025) EndedAt: 2025-07-04 19:53:38 -0400 (Fri, 04 Jul 2025) EllapsedTime: 36.5 seconds RetCode: 0 Status: OK CheckDir: LOLA.Rcheck Warnings: 0