Package: LOLA Version: 1.39.1 Command: /Library/Frameworks/R.framework/Resources/bin/R CMD build --keep-empty-dirs --no-resave-data LOLA StartedAt: 2025-07-04 16:44:26 -0400 (Fri, 04 Jul 2025) EndedAt: 2025-07-04 16:44:35 -0400 (Fri, 04 Jul 2025) EllapsedTime: 9.1 seconds RetCode: 0 Status: OK PackageFile: LOLA_1.39.1.tar.gz PackageFileSize: 1.11 MiB